Workbook
Name Beta: #REF!
Name Cost_of_Capital: #REF!
Name CostofDebt: #REF!
Name Costofequity: #REF!
Name Current_Sales: #REF!
Name DebtValue: #REF!
Name EquityValue: #REF!
Name Gross_Margin: #REF!
Name MarketReturns: #REF!
Name Postcostofdebt: #REF!
Name RiskFreeRate: #REF!
Name Sales_Growth: #REF!
Name TaxRate: #REF!
Name UPDATE: 'Data Sheet'!$E$1

Sheet Assumption sheet
B2: Assumption | C2: FY27 | D2: FY28 | E2: FY29 | F2: FY30 | G2: FY31
B3: Revenue Growth % | C3: 0.025 | D3: 0.04 | E3: 0.05 | F3: 0.06 | G3: 0.06
B4: COGS % Sales | C4: =AVERAGE('Historical FS'!$G$10:$L$10) -> 0.70713359 | D4: =AVERAGE('Historical FS'!$G$10:$L$10) -> 0.70713359 | E4: =AVERAGE('Historical FS'!$G$10:$L$10) -> 0.70713359 | F4: =AVERAGE('Historical FS'!$G$10:$L$10) -> 0.70713359 | G4: =AVERAGE('Historical FS'!$G$10:$L$10) -> 0.70713359
B6: S&G Expense % Sales | C6: =AVERAGE('Historical FS'!$H$16:$L$16) -> 0.045242603 | D6: =AVERAGE('Historical FS'!$H$16:$L$16) -> 0.045242603 | E6: =AVERAGE('Historical FS'!$H$16:$L$16) -> 0.045242603 | F6: =AVERAGE('Historical FS'!$H$16:$L$16) -> 0.045242603 | G6: =AVERAGE('Historical FS'!$H$16:$L$16) -> 0.045242603
B7: Depreciation % Sales | C7: ='Historical FS'!M28 -> 0.027126155 | D7: =C7 -> 0.027126155 | E7: =D7 -> 0.027126155 | F7: =E7 -> 0.027126155 | G7: =F7 -> 0.027126155
B8: Interest Rate % | C8: =AVERAGE('Historical FS'!$H$22:$L$22) -> 0.0023037207 | D8: =AVERAGE('Historical FS'!$H$22:$L$22) -> 0.0023037207 | E8: =AVERAGE('Historical FS'!$H$22:$L$22) -> 0.0023037207 | F8: =AVERAGE('Historical FS'!$H$22:$L$22) -> 0.0023037207 | G8: =AVERAGE('Historical FS'!$H$22:$L$22) -> 0.0023037207
B9: Effective Tax Rate % | C9: 0.295 | D9: 0.295 | E9: 0.295 | F9: 0.295 | G9: 0.295
B10: Dividend Payout Ratio % | C10: =70% -> 0.7 | D10: =70% -> 0.7 | E10: =70% -> 0.7 | F10: =70% -> 0.7 | G10: =70% -> 0.7
B11: Investments % Sales | C11: ='Historical FS'!L58/'Historical FS'!L6 -> 0.12247411 | D11: 0.1424
B12: Other Assets % Sales | D12: 0.2348
B13: Receivable Day | C13: 71.17

Sheet Capex Schedule
A2: CAPEX & Depreciation Schedule | B2: FY26A | C2: FY27E | D2: FY28E | E2: FY29E | F2: FY30E | G2: FY31E
A3: Revenue | B3: ='Historical FS'!L6 -> 178650 | C3: ='Historical FS'!N6 -> 183116.25 | D3: ='Historical FS'!O6 -> 190440.9 | E3: ='Historical FS'!P6 -> 199962.94 | F3: ='Historical FS'!Q6 -> 211960.72 | G3: ='Historical FS'!R6 -> 224678.37
A4: CAPEX % Revenue | B4: 0.0164 | C4: 0.015 | D4: 0.015 | E4: 0.015 | F4: 0.015 | G4: 0.015
A5: CAPEX | B5: 2931 | C5: =C3*C4 -> 2746.7437 | D5: =D3*D4 -> 2856.6135 | E5: =E3*E4 -> 2999.4442 | F5: =F3*F4 -> 3179.4108 | G5: =G3*G4 -> 3370.1755
A7: Opening Net PPE | C7: =B10 -> 33770 | D7: =C10 -> 31549.504 | E7: =D10 -> 29240.188 | F7: =E10 -> 26815.406 | G7: =F10 -> 24245.138
A8: CAPEX | B8: 2931 | C8: =C5 -> 2746.7437 | D8: =D5 -> 2856.6135 | E8: =E5 -> 2999.4442 | F8: =F5 -> 3179.4108 | G8: =G5 -> 3370.1755
A9: Depreciation | B9: ='Historical FS'!L27 -> 4902 | C9: =C3*'Assumption sheet'!C7 -> 4967.2398 | D9: =D3*'Assumption sheet'!D7 -> 5165.9294 | E9: =E3*'Assumption sheet'!E7 -> 5424.2259 | F9: =F3*'Assumption sheet'!F7 -> 5749.6795 | G9: =G3*'Assumption sheet'!G7 -> 6094.6602
A10: Closing Net PPE | B10: ='Historical FS'!L56 -> 33770 | C10: =C7+C8-C9 -> 31549.504 | D10: =D7+D8-D9 -> 29240.188 | E10: =E7+E8-E9 -> 26815.406 | F10: =F7+F8-F9 -> 24245.138 | G10: =G7+G8-G9 -> 21520.653

Sheet Historical FS
B2: ="Historical Financial Statement-"&'Data Sheet'!B1 -> Historical Financial Statement-INFOSYS LTD | N2: ="Forecasted Statement-"&'Data Sheet'!B1 -> Forecasted Statement-INFOSYS LTD
B3: Years | C3: ='Data Sheet'!B16 -> 42825 | D3: ='Data Sheet'!C16 -> 43190 | E3: ='Data Sheet'!D16 -> 43555 | F3: ='Data Sheet'!E16 -> 43921 | G3: ='Data Sheet'!F16 -> 44286 | H3: ='Data Sheet'!G16 -> 44651 | I3: ='Data Sheet'!H16 -> 45016 | J3: ='Data Sheet'!I16 -> 45382 | ... L3: ='Data Sheet'!K16 -> 46112 | M3: LTM | N3: Mar-27F | O3: Mar-28F | P3: Mar-29F | Q3: Mar-30F | R3: Mar-31F
A5: # | B5: Income Statement
B6: Sales | C6: =IFERROR('Data Sheet'!B17,0) -> 68484 | D6: =IFERROR('Data Sheet'!C17,0) -> 70522 | E6: =IFERROR('Data Sheet'!D17,0) -> 82675 | F6: =IFERROR('Data Sheet'!E17,0) -> 90791 | G6: =IFERROR('Data Sheet'!F17,0) -> 100472 | H6: =IFERROR('Data Sheet'!G17,0) -> 121641 | I6: =IFERROR('Data Sheet'!H17,0) -> 146767 | J6: =IFERROR('Data Sheet'!I17,0) -> 153670 | ... L6: =IFERROR('Data Sheet'!K17,0) -> 178650 | M6: =IFERROR(SUM('Data Sheet'!H42:K42),0) -> 184582 | N6: =L6*(1+'Assumption sheet'!C3) -> 183116.25 | O6: =N6*(1+'Assumption sheet'!D3) -> 190440.9 | P6: =O6*(1+'Assumption sheet'!E3) -> 199962.94 | Q6: =P6*(1+'Assumption sheet'!F3) -> 211960.72 | R6: =Q6*(1+'Assumption sheet'!G3) -> 224678.37
B7: Sales Growth | C7: - | D7: =D6/C6-1 -> 0.029758776 | E7: =E6/D6-1 -> 0.1723292 | F7: =F6/E6-1 -> 0.098167523 | G7: =G6/F6-1 -> 0.10662951 | H7: =H6/G6-1 -> 0.21069552 | I7: =I6/H6-1 -> 0.20655864 | J7: =J6/I6-1 -> 0.047033734 | K7: =K6/J6-1 -> 0.060649444 | ... M7: =M6/L6-1 -> 0.03320459
B9: Cogs | C9: =IFERROR(SUM('Data Sheet'!B18,'Data Sheet'!B20:B22)-1*'Data Sheet'!B19,0) -> 44609 | D9: =IFERROR(SUM('Data Sheet'!C18,'Data Sheet'!C20:C22)-1*'Data Sheet'!C19,0) -> 46395 | E9: =IFERROR(SUM('Data Sheet'!D18,'Data Sheet'!D20:D22)-1*'Data Sheet'!D19,0) -> 55446 | F9: =IFERROR(SUM('Data Sheet'!E18,'Data Sheet'!E20:E22)-1*'Data Sheet'!E19,0) -> 62210 | G9: =IFERROR(SUM('Data Sheet'!F18,'Data Sheet'!F20:F22)-1*'Data Sheet'!F19,0) -> 68490 | H9: =IFERROR(SUM('Data Sheet'!G18,'Data Sheet'!G20:G22)-1*'Data Sheet'!G19,0) -> 84819 | I9: =IFERROR(SUM('Data Sheet'!H18,'Data Sheet'!H20:H22)-1*'Data Sheet'!H19,0) -> 104880 | J9: =IFERROR(SUM('Data Sheet'!I18,'Data Sheet'!I20:I22)-1*'Data Sheet'!I19,0) -> 110030 | ... L9: =IFERROR(SUM('Data Sheet'!K18,'Data Sheet'!K20:K22)-1*'Data Sheet'!K19,0) -> 128257 | M9: =IFERROR(SUM('Data Sheet'!H43:K43),0) -> 140837 | N9: =N6*'Assumption sheet'!C4 -> 129487.65 | O9: =O6*'Assumption sheet'!D4 -> 134667.16 | P9: =P6*'Assumption sheet'!E4 -> 141400.51 | Q9: =Q6*'Assumption sheet'!F4 -> 149884.55 | R9: =R6*'Assumption sheet'!G4 -> 158877.62
B10: COGS% Sales | C10: =C9/C6 -> 0.65137842 | D10: =D9/D6 -> 0.65787981 | E10: =E9/E6 -> 0.67065014 | F10: =F9/F6 -> 0.68520007 | G10: =G9/G6 -> 0.68168246 | H10: =H9/H6 -> 0.69728957 | I10: =I9/I6 -> 0.71460206 | J10: =J9/J6 -> 0.71601484 | ... L10: =L9/L6 -> 0.71792331
B12: Gross Profit | C12: =C6-C9 -> 23875 | D12: =D6-D9 -> 24127 | E12: =E6-E9 -> 27229 | F12: =F6-F9 -> 28581 | G12: =G6-G9 -> 31982 | H12: =H6-H9 -> 36822 | I12: =I6-I9 -> 41887 | J12: =J6-J9 -> 43640 | ... R12: =R6-R9 -> 65800.747
B13: Gross Margin | C13: =C12/C6 -> 0.34862158 | D13: =D12/D6 -> 0.34212019 | E13: =E12/E6 -> 0.32934986 | F13: =F12/F6 -> 0.31479993 | G13: =G12/G6 -> 0.31831754 | H13: =H12/H6 -> 0.30271043 | I13: =I12/I6 -> 0.28539794 | J13: =J12/J6 -> 0.28398516 | ... M13: =M12/M6 -> 0.23699494
B15: Selling % General Exp. | C15: =IFERROR(SUM('Data Sheet'!B23:B24),0) -> 5271 | D15: =IFERROR(SUM('Data Sheet'!C23:C24),0) -> 5305 | E15: =IFERROR(SUM('Data Sheet'!D23:D24),0) -> 7059 | F15: =IFERROR(SUM('Data Sheet'!E23:E24),0) -> 6314 | G15: =IFERROR(SUM('Data Sheet'!F23:F24),0) -> 4093 | H15: =IFERROR(SUM('Data Sheet'!G23:G24),0) -> 5331 | I15: =IFERROR(SUM('Data Sheet'!H23:H24),0) -> 6757 | J15: =IFERROR(SUM('Data Sheet'!I23:I24),0) -> 7215 | ... L15: =IFERROR(SUM('Data Sheet'!K23:K24),0) -> 8113 | M15: - | N15: =N6*'Assumption sheet'!C6 -> 8284.6558 | O15: =O6*'Assumption sheet'!D6 -> 8616.042 | P15: =P6*'Assumption sheet'!E6 -> 9046.8441 | Q15: =Q6*'Assumption sheet'!F6 -> 9589.6548 | R15: =R6*'Assumption sheet'!G6 -> 10165.034
B16: S&G Exp% of sales | C16: =C15/C6 -> 0.076966883 | D16: =D15/D6 -> 0.075224753 | E16: =E15/E6 -> 0.085382522 | F16: =F15/F6 -> 0.069544338 | G16: =G15/G6 -> 0.040737718 | H16: =H15/H6 -> 0.043825684 | I16: =I15/I6 -> 0.04603896 | J16: =J15/J6 -> 0.046951259 | ... L16: =L15/L6 -> 0.045412818
B18: EBITDA | C18: =C12-C15 -> 18604 | D18: =D12-D15 -> 18822 | E18: =E12-E15 -> 20170 | F18: =F12-F15 -> 22267 | G18: =G12-G15 -> 27889 | H18: =H12-H15 -> 31491 | I18: =I12-I15 -> 35130 | J18: =J12-J15 -> 36425 | ... L18: =L12-L15 -> 42280 | M18: {=IFERROR(SUM('Data Sheet'!H50:K50+'Data Sheet'!H45:K45),0)} -> 48752 | N18: =N12-N15 -> 45343.944 | O18: =O12-O15 -> 47157.702 | P18: =P12-P15 -> 49515.587 | Q18: =Q12-Q15 -> 52486.522 | R18: =R12-R15 -> 55635.713
B19: EBITDA % Sales | C19: =C18/C6 -> 0.27165469 | D19: =D18/D6 -> 0.26689544 | E19: =E18/E6 -> 0.24396734 | F19: =F18/F6 -> 0.24525559 | G19: =G18/G6 -> 0.27757982 | H19: =H18/H6 -> 0.25888475 | I19: =I18/I6 -> 0.23935898 | J19: =J18/J6 -> 0.2370339 | ... M19: =M18/M6 -> 0.2641211
B21: Interest | C21: =IFERROR('Data Sheet'!B27,0) -> 0 | D21: =IFERROR('Data Sheet'!C27,0) -> 0 | E21: =IFERROR('Data Sheet'!D27,0) -> 0 | F21: =IFERROR('Data Sheet'!E27,0) -> 170 | G21: =IFERROR('Data Sheet'!F27,0) -> 195 | H21: =IFERROR('Data Sheet'!G27,0) -> 200 | I21: =IFERROR('Data Sheet'!H27,0) -> 284 | J21: =IFERROR('Data Sheet'!I27,0) -> 470 | ... L21: =IFERROR('Data Sheet'!K27,0) -> 416 | M21: =IFERROR(SUM('Data Sheet'!H46:K46),0) -> 430 | N21: =N6*'Assumption sheet'!C8 -> 421.8487 | O21: =O6*'Assumption sheet'!D8 -> 438.72265 | P21: =P6*'Assumption sheet'!E8 -> 460.65878 | Q21: =Q6*'Assumption sheet'!F8 -> 488.29831 | R21: =R6*'Assumption sheet'!G8 -> 517.5962
B22: Interest % Sales | C22: =C21/C6 -> 0 | D22: =D21/D6 -> 0 | E22: =E21/E6 -> 0 | F22: =F21/F6 -> 0.0018724323 | G22: =G21/G6 -> 0.0019408392 | H22: =H21/H6 -> 0.0016441825 | I22: =I21/I6 -> 0.0019350399 | J22: =J21/J6 -> 0.003058502 | ... M22: =M21/M6 -> 0.0023295879
B24: EBIT | C24: =C18-C21 -> 18604 | D24: =D18-D21 -> 18822 | E24: =E18-E21 -> 20170 | F24: =F18-F21 -> 22097 | G24: =G18-G21 -> 27694 | H24: =H18-H21 -> 31291 | I24: =I18-I21 -> 34846 | J24: =J18-J21 -> 35955 | ... R24: =R18-R21 -> 55118.117
B25: EBIT Growth | D25: =D24/C24-1 -> 0.01171791 | E25: =E24/D24-1 -> 0.071618319 | F25: =F24/E24-1 -> 0.095537928 | G25: =G24/F24-1 -> 0.2532923 | H25: =H24/G24-1 -> 0.12988373 | I25: =I24/H24-1 -> 0.11361094 | J25: =J24/I24-1 -> 0.031825748 | K25: =K24/J24-1 -> 0.079682937 | ... M25: =M24/L24-1 -> 0.15426142
B27: Depriciation | C27: =IFERROR('Data Sheet'!B26,0) -> 1703 | D27: =IFERROR('Data Sheet'!C26,0) -> 1863 | E27: =IFERROR('Data Sheet'!D26,0) -> 2011 | F27: =IFERROR('Data Sheet'!E26,0) -> 2893 | G27: =IFERROR('Data Sheet'!F26,0) -> 3267 | H27: =IFERROR('Data Sheet'!G26,0) -> 3476 | I27: =IFERROR('Data Sheet'!H26,0) -> 4225 | J27: =IFERROR('Data Sheet'!I26,0) -> 4678 | ... L27: =IFERROR('Data Sheet'!K26,0) -> 4902 | M27: =IFERROR(SUM('Data Sheet'!H45:K45),0) -> 5007 | N27: ='Capex Schedule'!C9 -> 4967.2398 | O27: ='Capex Schedule'!D9 -> 5165.9294 | P27: ='Capex Schedule'!E9 -> 5424.2259 | Q27: ='Capex Schedule'!F9 -> 5749.6795 | R27: ='Capex Schedule'!G9 -> 6094.6602
B28: Depriciation % Sales | C28: =C27/C6 -> 0.024867122 | D28: =D27/D6 -> 0.026417288 | E28: =E27/E6 -> 0.024324161 | F28: =F27/F6 -> 0.031864392 | G28: =G27/G6 -> 0.032516522 | H28: =H27/H6 -> 0.028575891 | I28: =I27/I6 -> 0.028787125 | J28: =J27/J6 -> 0.030441856 | ... M28: =M27/M6 -> 0.027126155
B30: EBT | C30: =IFERROR(C18-SUM(C21+C27),0) -> 16901 | D30: =IFERROR(D18-SUM(D21+D27),0) -> 16959 | E30: =IFERROR(E18-SUM(E21+E27),0) -> 18159 | F30: =IFERROR(F18-SUM(F21+F27),0) -> 19204 | G30: =IFERROR(G18-SUM(G21+G27),0) -> 24427 | H30: =IFERROR(H18-SUM(H21+H27),0) -> 27815 | I30: =IFERROR(I18-SUM(I21+I27),0) -> 30621 | J30: =IFERROR(J18-SUM(J21+J27),0) -> 31277 | ... M30: =IFERROR(M18-SUM(M21+M27),0) -> 43315 | N30: =N18-N21-N27 -> 39954.855 | O30: =O18-O21-O27 -> 41553.049 | P30: =P18-P21-P27 -> 43630.702 | Q30: =Q18-Q21-Q27 -> 46248.544 | R30: =R18-R21-R27 -> 49023.457
B31: EBT % Sales | C31: =C30/C6 -> 0.24678757 | D31: =D30/D6 -> 0.24047815 | E31: =E30/E6 -> 0.21964318 | F31: =F30/F6 -> 0.21151876 | G31: =G30/G6 -> 0.24312246 | H31: =H30/H6 -> 0.22866468 | I31: =I30/I6 -> 0.20863682 | J31: =J30/J6 -> 0.20353355 | ... M31: =M30/M6 -> 0.23466535
B33: Tax | C33: =IFERROR('Data Sheet'!B29,0) -> 5598 | D33: =IFERROR('Data Sheet'!C29,0) -> 4241 | E33: =IFERROR('Data Sheet'!D29,0) -> 5631 | F33: =IFERROR('Data Sheet'!E29,0) -> 5368 | G33: =IFERROR('Data Sheet'!F29,0) -> 7205 | H33: =IFERROR('Data Sheet'!G29,0) -> 7964 | I33: =IFERROR('Data Sheet'!H29,0) -> 9214 | J33: =IFERROR('Data Sheet'!I29,0) -> 9740 | ... L33: =IFERROR('Data Sheet'!K29,0) -> 10521 | M33: =IFERROR(SUM('Data Sheet'!H48:K48),0) -> 10958 | N33: =N30*'Assumption sheet'!C9 -> 11786.682 | O33: =O30*'Assumption sheet'!D9 -> 12258.15 | P33: =P30*'Assumption sheet'!E9 -> 12871.057 | Q33: =Q30*'Assumption sheet'!F9 -> 13643.32 | R33: =R30*'Assumption sheet'!G9 -> 14461.92
B34: Effective Tax | C34: =C33/C30 -> 0.331223 | D34: =D33/D30 -> 0.25007371 | E34: =E33/E30 -> 0.31009417 | F34: =F33/F30 -> 0.2795251 | G34: =G33/G30 -> 0.29496049 | H34: =H33/H30 -> 0.28632033 | I34: =I33/I30 -> 0.30090461 | J34: =J33/J30 -> 0.31141094 | ... M34: =M33/M30 -> 0.25298395
B36: Net Profit | C36: =IFERROR(C30-C33,0) -> 11303 | D36: =IFERROR(D30-D33,0) -> 12718 | E36: =IFERROR(E30-E33,0) -> 12528 | F36: =IFERROR(F30-F33,0) -> 13836 | G36: =IFERROR(G30-G33,0) -> 17222 | H36: =IFERROR(H30-H33,0) -> 19851 | I36: =IFERROR(I30-I33,0) -> 21407 | J36: =IFERROR(J30-J33,0) -> 21537 | ... M36: =IFERROR(M30-M33,0) -> 32357 | N36: =N30-N33 -> 28168.173 | O36: =O30-O33 -> 29294.9 | P36: =P30-P33 -> 30759.645 | Q36: =Q30-Q33 -> 32605.224 | R36: =R30-R33 -> 34561.537
B37: Net Profit Margins | C37: =C36/C6 -> 0.16504585 | D37: =D36/D6 -> 0.18034089 | E37: =E36/E6 -> 0.15153311 | F37: =F36/F6 -> 0.15239396 | G37: =G36/G6 -> 0.17141094 | H37: =H36/H6 -> 0.16319333 | I37: =I36/I6 -> 0.14585704 | J37: =J36/J6 -> 0.14015097 | ... R37: =R36/R6 -> 0.15382672
B39: No. of Equity Shares | C39: =IFERROR('Data Sheet'!B93,0) -> 459.39 | D39: =IFERROR('Data Sheet'!C93,0) -> 436.82 | E39: =IFERROR('Data Sheet'!D93,0) -> 436.89 | F39: =IFERROR('Data Sheet'!E93,0) -> 425.9 | G39: =IFERROR('Data Sheet'!F93,0) -> 426.07 | H39: =IFERROR('Data Sheet'!G93,0) -> 420.67 | I39: =IFERROR('Data Sheet'!H93,0) -> 414.86 | J39: =IFERROR('Data Sheet'!I93,0) -> 415.09 | ... L39: =IFERROR('Data Sheet'!K93,0) -> 405.56 | M39: =L39 -> 405.56 | N39: =AVERAGE(K39:M39) -> 408.81667 | O39: =N39 -> 408.81667 | P39: =O39 -> 408.81667 | Q39: =P39 -> 408.81667 | R39: =Q39 -> 408.81667
B41: EPS | C41: =IFERROR(C36/C39,0) -> 24.604367 | D41: =IFERROR(D36/D39,0) -> 29.114967 | E41: =IFERROR(E36/E39,0) -> 28.67541 | F41: =IFERROR(F36/F39,0) -> 32.486499 | G41: =IFERROR(G36/G39,0) -> 40.420588 | H41: =IFERROR(H36/H39,0) -> 47.189008 | I41: =IFERROR(I36/I39,0) -> 51.60054 | J41: =IFERROR(J36/J39,0) -> 51.885133 | ... M41: =IFERROR(M36/M39,0) -> 79.783509 | N41: =N36/N39 -> 68.901724 | O41: =O36/O39 -> 71.657793 | P41: =P36/P39 -> 75.240682 | Q41: =Q36/Q39 -> 79.755123 | R41: =R36/R39 -> 84.54043
B42: EPS Growth% | D42: =IFERROR(D41/C41-1,0) -> 0.18332521 | E42: =IFERROR(E41/D41-1,0) -> -0.015097286 | F42: =IFERROR(F41/E41-1,0) -> 0.13290442 | G42: =IFERROR(G41/F41-1,0) -> 0.24422727 | H42: =IFERROR(H41/G41-1,0) -> 0.16744981 | I42: =IFERROR(I41/H41-1,0) -> 0.093486431 | J42: =IFERROR(J41/I41-1,0) -> 0.0055153183 | K42: =IFERROR(K41/J41-1,0) -> 0.074273236 | ... M42: =IFERROR(M41/L41-1,0) -> 0.22374343
B44: DPS | C44: =IFERROR('Data Sheet'!B31/'Data Sheet'!B93,0) -> 12.824833 | D44: =IFERROR('Data Sheet'!C31/'Data Sheet'!C93,0) -> 21.669337 | E44: =IFERROR('Data Sheet'!D31/'Data Sheet'!D93,0) -> 21.109433 | F44: =IFERROR('Data Sheet'!E31/'Data Sheet'!E93,0) -> 17.438366 | G44: =IFERROR('Data Sheet'!F31/'Data Sheet'!F93,0) -> 26.91952 | H44: =IFERROR('Data Sheet'!G31/'Data Sheet'!G93,0) -> 30.92115 | I44: =IFERROR('Data Sheet'!H31/'Data Sheet'!H93,0) -> 33.913127 | J44: =IFERROR('Data Sheet'!I31/'Data Sheet'!I93,0) -> 45.901371 | ... M44: =IFERROR('Data Sheet'!L31/'Data Sheet'!L93,0) -> 0 | N44: =N41*'Assumption sheet'!C10 -> 48.231207 | O44: =O41*'Assumption sheet'!D10 -> 50.160455 | P44: =P41*'Assumption sheet'!E10 -> 52.668478 | Q44: =Q41*'Assumption sheet'!F10 -> 55.828586 | R44: =R41*'Assumption sheet'!G10 -> 59.178301
B45: Dividend Payout Ratio | C45: =IFERROR(C44/C41,0) -> 0.52124215 | D45: =IFERROR(D44/D41,0) -> 0.74426797 | E45: =IFERROR(E44/E41,0) -> 0.73615102 | F45: =IFERROR(F44/F41,0) -> 0.53678809 | G45: =IFERROR(G44/G41,0) -> 0.66598537 | H45: =IFERROR(H44/H41,0) -> 0.6552617 | I45: =IFERROR(I44/I41,0) -> 0.65722427 | J45: =IFERROR(J44/J41,0) -> 0.88467289 | ... R45: =IFERROR(R44/R41,0) -> 0.7
B47: Retained earning | C47: =IFERROR(IF(C41>C44,1-C45,0),0) -> 0.47875785 | D47: =IFERROR(IF(D41>D44,1-D45,0),0) -> 0.25573203 | E47: =IFERROR(IF(E41>E44,1-E45,0),0) -> 0.26384898 | F47: =IFERROR(IF(F41>F44,1-F45,0),0) -> 0.46321191 | G47: =IFERROR(IF(G41>G44,1-G45,0),0) -> 0.33401463 | H47: =IFERROR(IF(H41>H44,1-H45,0),0) -> 0.3447383 | I47: =IFERROR(IF(I41>I44,1-I45,0),0) -> 0.34277573 | J47: =IFERROR(IF(J41>J44,1-J45,0),0) -> 0.11532711 | ... R47: =IFERROR(IF(R41>R44,1-R45,0),0) -> 0.3
A49: # | B49: Balance Sheet
B50: Equity Share Capital | C50: =IFERROR('Data Sheet'!B57,0) -> 1144 | D50: =IFERROR('Data Sheet'!C57,0) -> 1088 | E50: =IFERROR('Data Sheet'!D57,0) -> 2170 | F50: =IFERROR('Data Sheet'!E57,0) -> 2122 | G50: =IFERROR('Data Sheet'!F57,0) -> 2124 | H50: =IFERROR('Data Sheet'!G57,0) -> 2098 | I50: =IFERROR('Data Sheet'!H57,0) -> 2069 | J50: =IFERROR('Data Sheet'!I57,0) -> 2071 | ... L50: =IFERROR('Data Sheet'!K57,0) -> 2024 | N50: =L50 -> 2024 | O50: =N50 -> 2024 | P50: =O50 -> 2024 | Q50: =P50 -> 2024 | R50: =Q50 -> 2024
B51: Reserves | C51: =IFERROR('Data Sheet'!B58,0) -> 67838 | D51: =IFERROR('Data Sheet'!C58,0) -> 63835 | E51: =IFERROR('Data Sheet'!D58,0) -> 62778 | F51: =IFERROR('Data Sheet'!E58,0) -> 63328 | G51: =IFERROR('Data Sheet'!F58,0) -> 74227 | H51: =IFERROR('Data Sheet'!G58,0) -> 73252 | I51: =IFERROR('Data Sheet'!H58,0) -> 73338 | J51: =IFERROR('Data Sheet'!I58,0) -> 86045 | ... L51: =IFERROR('Data Sheet'!K58,0) -> 90828 | N51: =L51+N36-(N44*N39) -> 99278.452 | O51: =N51+O36-(O44*O39) -> 108066.92 | P51: =O51+P36-(P44*P39) -> 117294.82 | Q51: =P51+Q36-(Q44*Q39) -> 127076.38 | R51: =Q51+R36-(R44*R39) -> 137444.84
B52: Borrowings | C52: =IFERROR('Data Sheet'!B59,0) -> 0 | D52: =IFERROR('Data Sheet'!C59,0) -> 0 | E52: =IFERROR('Data Sheet'!D59,0) -> 0 | F52: =IFERROR('Data Sheet'!E59,0) -> 4633 | G52: =IFERROR('Data Sheet'!F59,0) -> 5325 | H52: =IFERROR('Data Sheet'!G59,0) -> 5474 | I52: =IFERROR('Data Sheet'!H59,0) -> 8299 | J52: =IFERROR('Data Sheet'!I59,0) -> 8359 | ... L52: =IFERROR('Data Sheet'!K59,0) -> 9176 | N52: =L52 -> 9176 | O52: =N52 -> 9176 | P52: =O52 -> 9176 | Q52: =P52 -> 9176 | R52: =Q52 -> 9176
B53: Other Liabilities | C53: =IFERROR('Data Sheet'!B60,0) -> 14166 | D53: =IFERROR('Data Sheet'!C60,0) -> 14426 | E53: =IFERROR('Data Sheet'!D60,0) -> 19118 | F53: =IFERROR('Data Sheet'!E60,0) -> 21717 | G53: =IFERROR('Data Sheet'!F60,0) -> 25835 | H53: =IFERROR('Data Sheet'!G60,0) -> 35905 | I53: =IFERROR('Data Sheet'!H60,0) -> 40890 | J53: =IFERROR('Data Sheet'!I60,0) -> 39545 | ... L53: =IFERROR('Data Sheet'!K60,0) -> 52260 | N53: =N6*29.25% -> 53561.503 | O53: =O6*29.25% -> 55703.963 | P53: =P6*29.25% -> 58489.161 | Q53: =Q6*29.25% -> 61998.511 | R53: =R6*29.25% -> 65718.422
B54: Total Liablities | C54: =IFERROR('Data Sheet'!B61,0) -> 83148 | D54: =IFERROR('Data Sheet'!C61,0) -> 79349 | E54: =IFERROR('Data Sheet'!D61,0) -> 84066 | F54: =IFERROR('Data Sheet'!E61,0) -> 91800 | G54: =IFERROR('Data Sheet'!F61,0) -> 107511 | H54: =IFERROR('Data Sheet'!G61,0) -> 116729 | I54: =IFERROR('Data Sheet'!H61,0) -> 124596 | J54: =IFERROR('Data Sheet'!I61,0) -> 136020 | ... L54: =IFERROR('Data Sheet'!K61,0) -> 154288 | N54: =SUM(N50:N53) -> 164039.96 | O54: =SUM(O50:O53) -> 174970.89 | P54: =SUM(P50:P53) -> 186983.98 | Q54: =SUM(Q50:Q53) -> 200274.89 | R54: =SUM(R50:R53) -> 214363.27
B56: Fixed Asset Net Block | C56: =IFERROR('Data Sheet'!B62,0) -> 14179 | D56: =IFERROR('Data Sheet'!C62,0) -> 12574 | E56: =IFERROR('Data Sheet'!D62,0) -> 15710 | F56: =IFERROR('Data Sheet'!E62,0) -> 23789 | G56: =IFERROR('Data Sheet'!F62,0) -> 25505 | H56: =IFERROR('Data Sheet'!G62,0) -> 25800 | I56: =IFERROR('Data Sheet'!H62,0) -> 29225 | J56: =IFERROR('Data Sheet'!I62,0) -> 27622 | ... L56: =IFERROR('Data Sheet'!K62,0) -> 33770 | N56: ='Capex Schedule'!C10 -> 31549.504 | O56: ='Capex Schedule'!D10 -> 29240.188 | P56: ='Capex Schedule'!E10 -> 26815.406 | Q56: ='Capex Schedule'!F10 -> 24245.138 | R56: ='Capex Schedule'!G10 -> 21520.653
B57: Capital Work in Progress | C57: =IFERROR('Data Sheet'!B63,0) -> 1365 | D57: =IFERROR('Data Sheet'!C63,0) -> 1606 | E57: =IFERROR('Data Sheet'!D63,0) -> 1388 | F57: =IFERROR('Data Sheet'!E63,0) -> 954 | G57: =IFERROR('Data Sheet'!F63,0) -> 922 | H57: =IFERROR('Data Sheet'!G63,0) -> 416 | I57: =IFERROR('Data Sheet'!H63,0) -> 288 | J57: =IFERROR('Data Sheet'!I63,0) -> 293 | ... L57: =IFERROR('Data Sheet'!K63,0) -> 526 | N57: =L57 -> 526 | O57: =526 -> 526 | P57: =526 -> 526 | Q57: =526 -> 526 | R57: =526 -> 526
B58: Investments | C58: =IFERROR('Data Sheet'!B64,0) -> 16423 | D58: =IFERROR('Data Sheet'!C64,0) -> 12163 | E58: =IFERROR('Data Sheet'!D64,0) -> 11261 | F58: =IFERROR('Data Sheet'!E64,0) -> 8792 | G58: =IFERROR('Data Sheet'!F64,0) -> 14205 | H58: =IFERROR('Data Sheet'!G64,0) -> 20324 | I58: =IFERROR('Data Sheet'!H64,0) -> 19478 | J58: =IFERROR('Data Sheet'!I64,0) -> 24623 | ... L58: =IFERROR('Data Sheet'!K64,0) -> 21880 | N58: =N6*14.24% -> 26075.754 | O58: =O6*14.24% -> 27118.784 | P58: =P6*14.24% -> 28474.723 | Q58: =Q6*14.24% -> 30183.207 | R58: =R6*14.24% -> 31994.199
...

Sheet Ratio_Analysis
B2: ="Historical Financial Statement-"&'Data Sheet'!B1 -> Historical Financial Statement-INFOSYS LTD
B3: ='Historical FS'!B3 -> Years | C3: ='Historical FS'!C3 -> 42825 | D3: ='Historical FS'!D3 -> 43190 | E3: ='Historical FS'!E3 -> 43555 | F3: ='Historical FS'!F3 -> 43921 | G3: ='Historical FS'!G3 -> 44286 | H3: ='Historical FS'!H3 -> 44651 | I3: ='Historical FS'!I3 -> 45016 | ... L3: ='Historical FS'!L3 -> 46112 | M3: Trendline | N3: Analysis
B4: SalesGrowth | D4: ='Historical FS'!D7 -> 0.029758776 | E4: ='Historical FS'!E7 -> 0.1723292 | F4: ='Historical FS'!F7 -> 0.098167523 | G4: ='Historical FS'!G7 -> 0.10662951 | H4: ='Historical FS'!H7 -> 0.21069552 | I4: ='Historical FS'!I7 -> 0.20655864 | J4: ='Historical FS'!J7 -> 0.047033734 | K4: ='Historical FS'!K7 -> 0.060649444 | L4: ='Historical FS'!L7 -> 0.096079514 | N4: Sales growth remains positive, indicating consistent revenue expansion despite some year-to-year volatility.
B5: EBITDA Growth | D5: ='Historical FS'!D18/'Historical FS'!C18-1 -> 0.01171791 | E5: ='Historical FS'!E18/'Historical FS'!D18-1 -> 0.071618319 | F5: ='Historical FS'!F18/'Historical FS'!E18-1 -> 0.10396629 | G5: ='Historical FS'!G18/'Historical FS'!F18-1 -> 0.25248125 | H5: ='Historical FS'!H18/'Historical FS'!G18-1 -> 0.12915486 | I5: ='Historical FS'!I18/'Historical FS'!H18-1 -> 0.11555683 | J5: ='Historical FS'!J18/'Historical FS'!I18-1 -> 0.03686308 | K5: ='Historical FS'!K18/'Historical FS'!J18-1 -> 0.077172272 | L5: ='Historical FS'!L18/'Historical FS'!K18-1 -> 0.077581813 | N5: EBITDA has generally grown, reflecting sustained operating profit growth.
B6: EBIT Growth | D6: ='Historical FS'!D25 -> 0.01171791 | E6: ='Historical FS'!E25 -> 0.071618319 | F6: ='Historical FS'!F25 -> 0.095537928 | G6: ='Historical FS'!G25 -> 0.2532923 | H6: ='Historical FS'!H25 -> 0.12988373 | I6: ='Historical FS'!I25 -> 0.11361094 | J6: ='Historical FS'!J25 -> 0.031825748 | K6: ='Historical FS'!K25 -> 0.079682937 | L6: ='Historical FS'!L25 -> 0.078413189 | N6: EBIT growth remains positive, indicating improving operating profitability.
B7: Net Profit Growth | D7: ='Historical FS'!D36/'Historical FS'!C36-1 -> 0.125188 | E7: ='Historical FS'!E36/'Historical FS'!D36-1 -> -0.014939456 | F7: ='Historical FS'!F36/'Historical FS'!E36-1 -> 0.10440613 | G7: ='Historical FS'!G36/'Historical FS'!F36-1 -> 0.24472391 | H7: ='Historical FS'!H36/'Historical FS'!G36-1 -> 0.15265358 | I7: ='Historical FS'!I36/'Historical FS'!H36-1 -> 0.078383961 | J7: ='Historical FS'!J36/'Historical FS'!I36-1 -> 0.0060727799 | K7: ='Historical FS'!K36/'Historical FS'!J36-1 -> 0.074894368 | L7: ='Historical FS'!L36/'Historical FS'!K36-1 -> 0.14215983 | N7: Net profit has generally increased, showing healthy bottom-line growth despite some volatility.
B8: Dividend Growth | D8: ='Historical FS'!D44/'Historical FS'!C44-1 -> 0.68963897 | E8: ='Historical FS'!E44/'Historical FS'!D44-1 -> -0.02583858 | F8: ='Historical FS'!F44/'Historical FS'!E44-1 -> -0.17390646 | G8: ='Historical FS'!G44/'Historical FS'!F44-1 -> 0.54369512 | H8: ='Historical FS'!H44/'Historical FS'!G44-1 -> 0.14865158 | I8: ='Historical FS'!I44/'Historical FS'!H44-1 -> 0.096761529 | J8: ='Historical FS'!J44/'Historical FS'!I44-1 -> 0.35349861 | K8: ='Historical FS'!K44/'Historical FS'!J44-1 -> -0.064855345 | L8: ='Historical FS'!L44/'Historical FS'!K44-1 -> 0.116149 | N8: Dividend growth is volatile but remains positive in the latest year, indicating continued shareholder returns.
B10: Gross Margin | C10: ='Historical FS'!C13 -> 0.34862158 | D10: ='Historical FS'!D13 -> 0.34212019 | E10: ='Historical FS'!E13 -> 0.32934986 | F10: ='Historical FS'!F13 -> 0.31479993 | G10: ='Historical FS'!G13 -> 0.31831754 | H10: ='Historical FS'!H13 -> 0.30271043 | I10: ='Historical FS'!I13 -> 0.28539794 | J10: ='Historical FS'!J13 -> 0.28398516 | ... L10: ='Historical FS'!L13 -> 0.28207669 | N10: Gross margin remains strong but has gradually moderated from historical levels.
B11: EBITDA Margin | C11: ='Historical FS'!C19 -> 0.27165469 | D11: ='Historical FS'!D19 -> 0.26689544 | E11: ='Historical FS'!E19 -> 0.24396734 | F11: ='Historical FS'!F19 -> 0.24525559 | G11: ='Historical FS'!G19 -> 0.27757982 | H11: ='Historical FS'!H19 -> 0.25888475 | I11: ='Historical FS'!I19 -> 0.23935898 | J11: ='Historical FS'!J19 -> 0.2370339 | ... L11: ='Historical FS'!L19 -> 0.23666387 | N11: EBITDA margin remains healthy, indicating strong operating efficiency.
B12: EBIT Margin | C12: ='Historical FS'!C24/'Historical FS'!C6 -> 0.27165469 | D12: ='Historical FS'!D24/'Historical FS'!D6 -> 0.26689544 | E12: ='Historical FS'!E24/'Historical FS'!E6 -> 0.24396734 | F12: ='Historical FS'!F24/'Historical FS'!F6 -> 0.24338315 | G12: ='Historical FS'!G24/'Historical FS'!G6 -> 0.27563898 | H12: ='Historical FS'!H24/'Historical FS'!H6 -> 0.25724057 | I12: ='Historical FS'!I24/'Historical FS'!I6 -> 0.23742394 | J12: ='Historical FS'!J24/'Historical FS'!J6 -> 0.2339754 | ... L12: ='Historical FS'!L24/'Historical FS'!L6 -> 0.23433529 | N12: EBIT margin remains stable around 21%, reflecting consistent operating profitability
B13: EBT Margin | C13: ='Historical FS'!C31 -> 0.24678757 | D13: ='Historical FS'!D31 -> 0.24047815 | E13: ='Historical FS'!E31 -> 0.21964318 | F13: ='Historical FS'!F31 -> 0.21151876 | G13: ='Historical FS'!G31 -> 0.24312246 | H13: ='Historical FS'!H31 -> 0.22866468 | I13: ='Historical FS'!I31 -> 0.20863682 | J13: ='Historical FS'!J31 -> 0.20353355 | ... L13: ='Historical FS'!L31 -> 0.20689617 | N13: EBT margin remains broadly stable, indicating consistent pre-tax profitability.
B14: Net Profit Margin | C14: ='Historical FS'!C37 -> 0.16504585 | D14: ='Historical FS'!D37 -> 0.18034089 | E14: ='Historical FS'!E37 -> 0.15153311 | F14: ='Historical FS'!F37 -> 0.15239396 | G14: ='Historical FS'!G37 -> 0.17141094 | H14: ='Historical FS'!H37 -> 0.16319333 | I14: ='Historical FS'!I37 -> 0.14585704 | J14: ='Historical FS'!J37 -> 0.14015097 | ... L14: ='Historical FS'!L37 -> 0.14800448 | N14: Net profit margin has improved recently, indicating better overall profitability.
B16: Return on Capital Employed | C16: ='Historical FS'!C24/('Historical FS'!C50+'Historical FS'!C52+'Historical FS'!C51) -> 0.26969354 | D16: ='Historical FS'!D24/('Historical FS'!D50+'Historical FS'!D52+'Historical FS'!D51) -> 0.28991267 | E16: ='Historical FS'!E24/('Historical FS'!E50+'Historical FS'!E52+'Historical FS'!E51) -> 0.31055614 | F16: ='Historical FS'!F24/('Historical FS'!F50+'Historical FS'!F52+'Historical FS'!F51) -> 0.31529758 | G16: ='Historical FS'!G24/('Historical FS'!G50+'Historical FS'!G52+'Historical FS'!G51) -> 0.33907145 | H16: ='Historical FS'!H24/('Historical FS'!H50+'Historical FS'!H52+'Historical FS'!H51) -> 0.38714986 | I16: ='Historical FS'!I24/('Historical FS'!I50+'Historical FS'!I52+'Historical FS'!I51) -> 0.41629035 | J16: ='Historical FS'!J24/('Historical FS'!J50+'Historical FS'!J52+'Historical FS'!J51) -> 0.37268722 | ... L16: ='Historical FS'!L24/('Historical FS'!L50+'Historical FS'!L52+'Historical FS'!L51) -> 0.41031874 | N16: ROCE remains strong and has improved significantly, indicating efficient use of capital.
B17: Interest Coverage Ratio | C17: =IFERROR('Historical FS'!C24/'Historical FS'!C21,0) -> 0 | D17: =IFERROR('Historical FS'!D24/'Historical FS'!D21,0) -> 0 | E17: =IFERROR('Historical FS'!E24/'Historical FS'!E21,0) -> 0 | F17: =IFERROR('Historical FS'!F24/'Historical FS'!F21,0) -> 129.98235 | G17: =IFERROR('Historical FS'!G24/'Historical FS'!G21,0) -> 142.02051 | H17: =IFERROR('Historical FS'!H24/'Historical FS'!H21,0) -> 156.455 | I17: =IFERROR('Historical FS'!I24/'Historical FS'!I21,0) -> 122.69718 | J17: =IFERROR('Historical FS'!J24/'Historical FS'!J21,0) -> 76.5 | ... L17: =IFERROR('Historical FS'!L24/'Historical FS'!L21,0) -> 100.63462 | N17: Strong interest coverage indicates a comfortable ability to meet interest obligations.
B19: Debtor Turnover Ratio | C19: ='Historical FS'!C6/'Historical FS'!C62 -> 5.557864 | D19: ='Historical FS'!D6/AVERAGE('Historical FS'!C62:D62) -> 5.538957 | E19: ='Historical FS'!E6/AVERAGE('Historical FS'!D62:E62) -> 5.9119025 | F19: ='Historical FS'!F6/AVERAGE('Historical FS'!E62:F62) -> 5.4506214 | G19: ='Historical FS'!G6/AVERAGE('Historical FS'!F62:G62) -> 5.3186522 | H19: ='Historical FS'!H6/AVERAGE('Historical FS'!G62:H62) -> 5.7935321 | I19: ='Historical FS'!I6/AVERAGE('Historical FS'!H62:I62) -> 6.099788 | J19: ='Historical FS'!J6/AVERAGE('Historical FS'!I62:J62) -> 5.5260082 | K19: ='Historical FS'!K6/AVERAGE('Historical FS'!J62:K62) -> 5.3133608 | L19: ='Historical FS'!L6/AVERAGE('Historical FS'!K62:L62) -> 5.3816725 | N19: Debtor turnover remains stable, indicating efficient collection from customers.
B20: Creditor Turnover Ratio | C20: ='Historical FS'!C9/'Historical FS'!C53 -> 3.1490188 | D20: ='Historical FS'!D9/AVERAGE('Historical FS'!C53:D53) -> 3.2453134 | E20: ='Historical FS'!E9/AVERAGE('Historical FS'!D53:E53) -> 3.3058669 | F20: ='Historical FS'!F9/AVERAGE('Historical FS'!E53:F53) -> 3.046896 | G20: ='Historical FS'!G9/AVERAGE('Historical FS'!F53:G53) -> 2.8806359 | H20: ='Historical FS'!H9/AVERAGE('Historical FS'!G53:H53) -> 2.747619 | I20: ='Historical FS'!I9/AVERAGE('Historical FS'!H53:I53) -> 2.7314278 | J20: ='Historical FS'!J9/AVERAGE('Historical FS'!I53:J53) -> 2.7358737 | K20: ='Historical FS'!K9/AVERAGE('Historical FS'!J53:K53) -> 2.7993277 | L20: ='Historical FS'!L9/AVERAGE('Historical FS'!K53:L53) -> 2.6717425 | N20: Creditor turnover has declined, indicating a longer payment cycle to suppliers.
B21: Inventory Turnover | C21: - | D21: =C21 -> - | E21: =D21 -> - | F21: =E21 -> - | G21: =F21 -> - | H21: =G21 -> - | I21: =H21 -> - | J21: =I21 -> - | K21: =J21 -> - | L21: =K21 -> - | N21: Not applicable as Infosys has no significant inventory requirement.
B22: Fixed Asset Turnover | C22: ='Historical FS'!C6/'Historical FS'!C56 -> 4.8299598 | D22: ='Historical FS'!D6/AVERAGE('Historical FS'!C56:D56) -> 5.2720816 | E22: ='Historical FS'!E6/AVERAGE('Historical FS'!D56:E56) -> 5.8460614 | F22: ='Historical FS'!F6/AVERAGE('Historical FS'!E56:F56) -> 4.597129 | G22: ='Historical FS'!G6/AVERAGE('Historical FS'!F56:G56) -> 4.0764393 | H22: ='Historical FS'!H6/AVERAGE('Historical FS'!G56:H56) -> 4.741877 | I22: ='Historical FS'!I6/AVERAGE('Historical FS'!H56:I56) -> 5.334557 | J22: ='Historical FS'!J6/AVERAGE('Historical FS'!I56:J56) -> 5.4064419 | K22: ='Historical FS'!K6/AVERAGE('Historical FS'!J56:K56) -> 5.5644129 | L22: ='Historical FS'!L6/AVERAGE('Historical FS'!K56:L56) -> 5.5197664 | N22: Not applicable as Infosys has no significant inventory requirement.
B24: Debtor Days | C24: =365/C19 -> 65.672712 | D24: =365/D19 -> 65.896883 | E24: =365/E19 -> 61.739855 | F24: =365/F19 -> 66.964842 | G24: =365/G19 -> 68.626408 | H24: =365/H19 -> 63.001291 | I24: =365/I19 -> 59.838145 | J24: =365/J19 -> 66.051295 | ... L24: =365/L19 -> 67.822782 | N24: Debtor days have remained broadly stable, indicating consistent collection efficiency.
B25: Payable Days | C25: =365/C20 -> 115.90912 | D25: =365/D20 -> 112.46988 | E25: =365/E20 -> 110.40977 | F25: =365/F20 -> 119.79404 | G25: =365/G20 -> 126.70813 | H25: =365/H20 -> 132.84229 | I25: =365/I20 -> 133.62974 | J25: =365/J20 -> 133.41259 | ... L25: =365/L20 -> 136.61496 | N25: Payable days have increased, indicating that the company is taking longer to pay suppliers.
B26: Inventory Days | C26: =C21 -> - | D26: =D21 -> - | E26: =E21 -> - | F26: =F21 -> - | G26: =G21 -> - | H26: =H21 -> - | I26: =I21 -> - | J26: =J21 -> - | ... L26: =L21 -> - | N26: Not applicable due to negligible inventory.
B27: Cash Conversion Cycle | C27: =C24-C25 -> -50.23641 | D27: =D24-D25 -> -46.572995 | E27: =E24-E25 -> -48.669913 | F27: =F24-F25 -> -52.829202 | G27: =G24-G25 -> -58.081724 | H27: =H24-H25 -> -69.840997 | I27: =I24-I25 -> -73.791599 | J27: =J24-J25 -> -67.361297 | ... L27: =L24-L25 -> -68.792179 | N27: Negative CCC indicates efficient working-capital management, with collections occurring before supplier payments.
B31: Conclusion | C31: Infosys demonstrates strong and consistent financial performance, supported by healthy profitability, high ROCE, efficient asset utilization, and strong interest coverage. While margins and sales growth show some fluctuations, the company maintains solid operating efficiency and a negative cash conversion cycle, indicating effective working capital management. Overall, Infosys has a strong financial position with sustainable profitability and efficient capital management.

Sheet DCF_valuation
B1: DCF VALUATION – INFOSYS LTD
B3: FCFF Calculation | D3: ='Historical FS'!N3 -> Mar-27F | E3: ='Historical FS'!O3 -> Mar-28F | F3: ='Historical FS'!P3 -> Mar-29F | G3: ='Historical FS'!Q3 -> Mar-30F | H3: ='Historical FS'!R3 -> Mar-31F
B4: EBIT | D4: ='Historical FS'!N24 -> 44922.095 | E4: ='Historical FS'!O24 -> 46718.979 | F4: ='Historical FS'!P24 -> 49054.928 | G4: ='Historical FS'!Q24 -> 51998.224 | H4: ='Historical FS'!R24 -> 55118.117
B5: Tax on EBIT | D5: =D4*$D$19 -> 13252.018 | E5: =E4*$D$19 -> 13782.099 | F5: =F4*$D$19 -> 14471.204 | G5: =G4*$D$19 -> 15339.476 | H5: =H4*$D$19 -> 16259.844
B6: NOPAT | D6: =D4-D5 -> 31670.077 | E6: =E4-E5 -> 32936.88 | F6: =F4-F5 -> 34583.724 | G6: =G4-G5 -> 36658.748 | H6: =H4-H5 -> 38858.272
B7: (+) Depreciation | D7: ='Historical FS'!N27 -> 4967.2398 | E7: ='Historical FS'!O27 -> 5165.9294 | F7: ='Historical FS'!P27 -> 5424.2259 | G7: ='Historical FS'!Q27 -> 5749.6795 | H7: ='Historical FS'!R27 -> 6094.6602
B8: (-) CAPEX | D8: ='Capex Schedule'!C8 -> 2746.7437 | E8: ='Capex Schedule'!D8 -> 2856.6135 | F8: ='Capex Schedule'!E8 -> 2999.4442 | G8: ='Capex Schedule'!F8 -> 3179.4108 | H8: ='Capex Schedule'!G8 -> 3370.1755
B9: (-) Change in NWC | D9: =('Historical FS'!N62-'Historical FS'!N53)-('Historical FS'!L62-'Historical FS'!L53) -> -830.34282 | E9: =('Historical FS'!O62-'Historical FS'!O53)-('Historical FS'!N62-'Historical FS'!N53) -> -714.25371 | F9: =('Historical FS'!P62-'Historical FS'!P53)-('Historical FS'!O62-'Historical FS'!O53) -> -928.52983 | G9: =('Historical FS'!Q62-'Historical FS'!Q53)-('Historical FS'!P62-'Historical FS'!P53) -> -1169.9476 | H9: =('Historical FS'!R62-'Historical FS'!R53)-('Historical FS'!Q62-'Historical FS'!Q53) -> -1240.1444
B10: FCFF | D10: =D6+D7-D8-D9 -> 34720.916 | E10: =E6+E7-E8-E9 -> 35960.45 | F10: =F6+F7-F8-F9 -> 37937.036 | G10: =G6+G7-G8-G9 -> 40398.964 | H10: =H6+H7-H8-H9 -> 42822.902
B13: WACC
B14: Risk Free Rate | D14: 0.0685
B15: Beta | D15: 0.7
B16: Equity Risk Premium | D16: 0.0727
B17: Cost of Equity | D17: =D14+D16*D15 -> 0.11939
B18: Pre-tax Cost of Debt | D18: ='Historical FS'!L21/AVERAGE('Historical FS'!K52:L52) -> 0.047807849
B19: Tax Rate | D19: ='Assumption sheet'!C9 -> 0.295
B20: After-tax Cost of Debt | D20: =D18*(1-D19) -> 0.033704534
B21: No. Of shares | D21: ='Data Sheet'!K93 -> 405.56
B22: Market Value of Equity | D22: 458560.4
B23: Market Value of Debt | D23: ='Historical FS'!L52 -> 9176
B24: Equity Weight | D24: =D22/(D22+D23) -> 0.98038211
B25: Debt Weight | D25: =1-D24 -> 0.019617887
B26: WACC | D26: =D20*D25+D17*D24 -> 0.11770903
B28: Discounted FCFF Calculation | D28: =D3 -> Mar-27F | E28: =E3 -> Mar-28F | F28: =F3 -> Mar-29F | G28: =G3 -> Mar-30F | H28: =H3 -> Mar-31F
B29: Discount Period | D29: 1 | E29: =D29+1 -> 2 | F29: =E29+1 -> 3 | G29: =F29+1 -> 4 | H29: =G29+1 -> 5
B30: FCFF | D30: =D10 -> 34720.916 | E30: =E10 -> 35960.45 | F30: =F10 -> 37937.036 | G30: =G10 -> 40398.964 | H30: =H10 -> 42822.902
B31: Discount Factor | D31: =1/(1+$D$26)^D29 -> 0.89468723 | E31: =1/(1+$D$26)^E29 -> 0.80046524 | F31: =1/(1+$D$26)^F29 -> 0.71616603 | G31: =1/(1+$D$26)^G29 -> 0.6407446 | H31: =1/(1+$D$26)^H29 -> 0.57326602
B32: PV of FCFF | D32: =D30*D31 -> 31064.36 | E32: =E30*E31 -> 28785.09 | F32: =F30*F31 -> 27169.216 | G32: =G30*G31 -> 25885.418 | H32: =H30*H31 -> 24548.914
B34: Terminal Value Calculation
B35: Terminal Growth Rate | C35: 0.035
B36: Terminal Year FCFF | C36: =H10 -> 42822.902
B37: Terminal Value | C37: =H30*(1+C35)/(D26-C35) -> 535875.01
B38: PV of Terminal Value | C38: =C37*H31 -> 307198.93
B40: Enterprise value | C40: =SUM(D32:H32)+C38 -> 444651.93
B41: Debt Value | C41: =D23 -> 9176
B42: Cash & Cash Equivalents | C42: ='Historical FS'!L64 -> 22201
B43: Equity Value | C43: =C40-C41+C42 -> 457676.93
B45: Value Per Share | C45: =C43/D21 -> 1128.5061
B48: Sensitivity Analysis of INFOSYS
D50: WACC
...

Sheet Investment_Summary
A1: INFOSYS LTD – INVESTMENT SUMMARY
A4: Metric | B4: Value
A5: Current Market Price | B5: =DCF_valuation!C61 -> 1121
A6: Intrinsic Value | B6: =DCF_valuation!C60 -> 1128.5061
A7: Upside / (Downside) | B7: =DCF_valuation!C62 -> 0.0066958873
A8: WACC | B8: =DCF_valuation!D26 -> 0.11770903
A9: Terminal Growth Rate | B9: =DCF_valuation!C35 -> 0.035
A10: Recommendation | B10: =DCF_valuation!C67 -> HOLD
A12: Financial Performance
A13: Revenue Growth | B13: =Ratio_Analysis!L4 -> 0.096079514
A14: EBITDA Margin | B14: =Ratio_Analysis!L11 -> 0.23666387
A15: Net Profit Margin | B15: =Ratio_Analysis!L14 -> 0.14800448
A16: ROCE | B16: =Ratio_Analysis!L16 -> 0.41031874
A18: Valuation
A19: Enterprise Value | B19: =DCF_valuation!C40 -> 444651.93
A20: Equity Value | B20: =DCF_valuation!C43 -> 457676.93
A21: Value per Share | B21: =DCF_valuation!C45 -> 1128.5061
A23: Investment View | B23: Infosys demonstrates strong profitability, efficient capital utilization and a strong balance sheet. The DCF valuation indicates an intrinsic value of ₹1,128.51 per share versus the current market price of ₹1,121, resulting in limited upside of 0.67%. Considering the limited valuation upside and sensitivity to WACC and terminal growth assumptions, the recommended stance is HOLD.

Sheet Financial Summary
B1: Financial Summary Of Infosys

Sheet Data Sheet
A1: COMPANY NAME | B1: INFOSYS LTD | E1: =IF(B2<>B3, "A NEW VERSION OF THE WORKSHEET IS AVAILABLE", "")
A2: LATEST VERSION | B2: 2.1 | E2: PLEASE DO NOT MAKE ANY CHANGES TO THIS SHEET
A3: CURRENT VERSION | B3: 2.1
A5: META
A6: Number of shares | B6: =IF(B9>0, B9/B8, 0) -> 405.9092
A7: Face Value | B7: 5
A8: Current Price | B8: 1175
A9: Market Capitalization | B9: 476943.31
A15: PROFIT & LOSS
A16: Report Date | B16: 42825 | C16: 43190 | D16: 43555 | E16: 43921 | F16: 44286 | G16: 44651 | H16: 45016 | I16: 45382 | J16: 45747 | K16: 46112
A17: Sales | B17: 68484 | C17: 70522 | D17: 82675 | E17: 90791 | F17: 100472 | G17: 121641 | H17: 146767 | I17: 153670 | J17: 162990 | K17: 178650
A18: Raw Material Cost
A19: Change in Inventory
A20: Power and Fuel | B20: 228 | C20: 207 | D20: 221 | E20: 229 | F20: 143 | G20: 132 | H20: 176 | I20: 199 | J20: 222 | K20: 223
A21: Other Mfr. Exp | B21: 6712 | C21: 7286 | D21: 9902 | E21: 11086 | F21: 12800 | G21: 20690 | H21: 26330 | I21: 27195 | J21: 30395 | K21: 32922
A22: Employee Cost | B22: 37669 | C22: 38902 | D22: 45323 | E22: 50895 | F22: 55547 | G22: 63997 | H22: 78374 | I22: 82636 | J22: 85968 | K22: 95112
A23: Selling and admin | B23: 4584 | C23: 4585 | D23: 5553 | E23: 5375 | F23: 3194 | G23: 4305 | H23: 5300 | I23: 5705 | J23: 6039 | K23: 6784
A24: Other Expenses | B24: 687 | C24: 720 | D24: 1506 | E24: 939 | F24: 899 | G24: 1026 | H24: 1457 | I24: 1510 | J24: 1130 | K24: 1329
A25: Other Income | B25: 3050 | C25: 3311 | D25: 2882 | E25: 2803 | F25: 2201 | G25: 2295 | H25: 2701 | I25: 4711 | J25: 3600 | K25: 3033
A26: Depreciation | B26: 1703 | C26: 1863 | D26: 2011 | E26: 2893 | F26: 3267 | G26: 3476 | H26: 4225 | I26: 4678 | J26: 4812 | K26: 4902
A27: Interest | E27: 170 | F27: 195 | G27: 200 | H27: 284 | I27: 470 | J27: 416 | K27: 416
A28: Profit before tax | B28: 19951 | C28: 20270 | D28: 21041 | E28: 22007 | F28: 26628 | G28: 30110 | H28: 33322 | I28: 35988 | J28: 37608 | K28: 39995
A29: Tax | B29: 5598 | C29: 4241 | D29: 5631 | E29: 5368 | F29: 7205 | G29: 7964 | H29: 9214 | I29: 9740 | J29: 10858 | K29: 10521
A30: Net profit | B30: 14353 | C30: 16029 | D30: 15404 | E30: 16594 | F30: 19351 | G30: 22110 | H30: 24095 | I30: 26233 | J30: 26713 | K30: 29440
A31: Dividend Amount | B31: 5891.6 | C31: 9465.6 | D31: 9222.5 | E31: 7427 | F31: 11469.6 | G31: 13007.6 | H31: 14069.2 | I31: 19053.2 | J31: 17827.8 | K31: 19430.4
A40: Quarters
A41: Report Date | B41: 45382 | C41: 45473 | D41: 45565 | E41: 45657 | F41: 45747 | G41: 45838 | H41: 45930 | I41: 46022 | J41: 46112 | K41: 46203
A42: Sales | B42: 37923 | C42: 39315 | D42: 40986 | E42: 41764 | F42: 40925 | G42: 42279 | H42: 44490 | I42: 45479 | J42: 46402 | K42: 48211
A43: Expenses | B43: 29139 | C43: 29878 | D43: 31177 | E43: 31649 | F43: 31051 | G43: 32336 | H43: 33955 | I43: 34845 | J43: 35235 | K43: 36802
A44: Other Income | B44: 2729 | C44: 838 | D44: 712 | E44: 859 | F44: 1190 | G44: 1042 | H44: 982 | I44: -150 | J44: 1159 | K44: 984
A45: Depreciation | B45: 1163 | C45: 1149 | D45: 1160 | E45: 1203 | F45: 1299 | G45: 1140 | H45: 1182 | I45: 1155 | J45: 1424 | K45: 1246
A46: Interest | B46: 110 | C46: 105 | D46: 108 | E46: 101 | F46: 102 | G46: 105 | H46: 106 | I46: 100 | J46: 105 | K46: 119
A47: Profit before tax | B47: 10240 | C47: 9021 | D47: 9253 | E47: 9670 | F47: 9663 | G47: 9740 | H47: 10229 | I47: 9229 | J47: 10797 | K47: 11028
A48: Tax | B48: 2265 | C48: 2647 | D48: 2737 | E48: 2848 | F48: 2625 | G48: 2816 | H48: 2854 | I48: 2563 | J48: 2288 | K48: 3253
A49: Net profit | B49: 7969 | C49: 6368 | D49: 6506 | E49: 6806 | F49: 7033 | G49: 6921 | H49: 7364 | I49: 6654 | J49: 8501 | K49: 7769
A50: Operating Profit | B50: 8784 | C50: 9437 | D50: 9809 | E50: 10115 | F50: 9874 | G50: 9943 | H50: 10535 | I50: 10634 | J50: 11167 | K50: 11409
A55: BALANCE SHEET
A56: Report Date | B56: 42825 | C56: 43190 | D56: 43555 | E56: 43921 | F56: 44286 | G56: 44651 | H56: 45016 | I56: 45382 | J56: 45747 | K56: 46112
A57: Equity Share Capital | B57: 1144 | C57: 1088 | D57: 2170 | E57: 2122 | F57: 2124 | G57: 2098 | H57: 2069 | I57: 2071 | J57: 2073 | K57: 2024
A58: Reserves | B58: 67838 | C58: 63835 | D58: 62778 | E58: 63328 | F58: 74227 | G58: 73252 | H58: 73338 | I58: 86045 | J58: 93745 | K58: 90828
...
